BEGIN:VCALENDAR
VERSION:2.0
PRODID:-//Mairie Avèze - ECPv6.15.20//NONSGML v1.0//EN
CALSCALE:GREGORIAN
METHOD:PUBLISH
X-WR-CALNAME:Mairie Avèze
X-ORIGINAL-URL:https://aveze.fr
X-WR-CALDESC:Évènements pour Mairie Avèze
REFRESH-INTERVAL;VALUE=DURATION:PT1H
X-Robots-Tag:noindex
X-PUBLISHED-TTL:PT1H
BEGIN:VTIMEZONE
TZID:Europe/Paris
BEGIN:DAYLIGHT
TZOFFSETFROM:+0100
TZOFFSETTO:+0200
TZNAME:CEST
DTSTART:20250330T010000
END:DAYLIGHT
BEGIN:STANDARD
TZOFFSETFROM:+0200
TZOFFSETTO:+0100
TZNAME:CET
DTSTART:20251026T010000
END:STANDARD
BEGIN:DAYLIGHT
TZOFFSETFROM:+0100
TZOFFSETTO:+0200
TZNAME:CEST
DTSTART:20260329T010000
END:DAYLIGHT
BEGIN:STANDARD
TZOFFSETFROM:+0200
TZOFFSETTO:+0100
TZNAME:CET
DTSTART:20261025T010000
END:STANDARD
BEGIN:DAYLIGHT
TZOFFSETFROM:+0100
TZOFFSETTO:+0200
TZNAME:CEST
DTSTART:20270328T010000
END:DAYLIGHT
BEGIN:STANDARD
TZOFFSETFROM:+0200
TZOFFSETTO:+0100
TZNAME:CET
DTSTART:20271031T010000
END:STANDARD
END:VTIMEZONE
BEGIN:VEVENT
DTSTART;TZID=Europe/Paris:20260427T083000
DTEND;TZID=Europe/Paris:20260427T160000
DTSTAMP:20260424T140151
CREATED:20260416T061826Z
LAST-MODIFIED:20260416T061826Z
UID:2425-1777278600-1777305600@aveze.fr
SUMMARY:Journée citoyenne: nettoyage des bords de rivière
DESCRIPTION:Rendez-vous lundi 27 avril à 8h30 au plan d’eau d’Avèze. \nPetits et grands\, nous comptons sur vous !
URL:https://aveze.fr/event/journee-citoyenne-nettoyage-des-bords-de-riviere
END:VEVENT
END:VCALENDAR